BEGIN:VCALENDAR
VERSION:2.0
PRODID:-//wp-events-plugin.com//7.2.3.1//EN
TZID:Europe/Berlin
X-WR-TIMEZONE:Europe/Berlin
BEGIN:VEVENT
UID:676@members.air-lovers.com
DTSTART;TZID=Europe/Berlin:20250904T190000
DTEND;TZID=Europe/Berlin:20250904T203000
DTSTAMP:20250512T181945Z
URL:https://members.air-lovers.com/events/flyin2025-briefing/
SUMMARY:PUBLIC Online Briefing Session: Air Lovers Fly In 2025 Hildesheim (
 EDVM)
DESCRIPTION:Am Sa.\, 06.09.2024 findet in Hildesheim (EDVM) unser Air Lover
 s Fly In 2025 @ Aviators Farm statt! Hier nochmal der Link mit allen Infos
  und zur Anmeldung: https://members.air-lovers.com/register/flyin/.\n\n
ATTACH;FMTTYPE=image/jpeg:https://members.air-lovers.com/wp-content/upload
 s/2025/04/briefing.png
CATEGORIES:Public
LOCATION:https://us06web.zoom.us/j/81571656669?pwd=UJcsoWQa0Q2ApF3ERgIzdVCK
 IXKzcm.1
END:VEVENT
BEGIN:VTIMEZONE
TZID:Europe/Berlin
X-LIC-LOCATION:Europe/Berlin
BEGIN:DAYLIGHT
DTSTART:20250330T030000
TZOFFSETFROM:+0100
TZOFFSETTO:+0200
TZNAME:CEST
END:DAYLIGHT
END:VTIMEZONE
END:VCALENDAR